BEGIN:VCALENDAR
VERSION:2.0
PRODID:-//Education | Exhibition | Performance - ECPv6.15.20//NONSGML v1.0//EN
CALSCALE:GREGORIAN
METHOD:PUBLISH
X-WR-CALNAME:Education | Exhibition | Performance
X-ORIGINAL-URL:https://scc-arts.org
X-WR-CALDESC:Events for Education | Exhibition | Performance
REFRESH-INTERVAL;VALUE=DURATION:PT1H
X-Robots-Tag:noindex
X-PUBLISHED-TTL:PT1H
BEGIN:VTIMEZONE
TZID:America/New_York
BEGIN:DAYLIGHT
TZOFFSETFROM:-0500
TZOFFSETTO:-0400
TZNAME:EDT
DTSTART:20240310T070000
END:DAYLIGHT
BEGIN:STANDARD
TZOFFSETFROM:-0400
TZOFFSETTO:-0500
TZNAME:EST
DTSTART:20241103T060000
END:STANDARD
BEGIN:DAYLIGHT
TZOFFSETFROM:-0500
TZOFFSETTO:-0400
TZNAME:EDT
DTSTART:20250309T070000
END:DAYLIGHT
BEGIN:STANDARD
TZOFFSETFROM:-0400
TZOFFSETTO:-0500
TZNAME:EST
DTSTART:20251102T060000
END:STANDARD
BEGIN:DAYLIGHT
TZOFFSETFROM:-0500
TZOFFSETTO:-0400
TZNAME:EDT
DTSTART:20260308T070000
END:DAYLIGHT
BEGIN:STANDARD
TZOFFSETFROM:-0400
TZOFFSETTO:-0500
TZNAME:EST
DTSTART:20261101T060000
END:STANDARD
END:VTIMEZONE
BEGIN:VEVENT
DTSTART;TZID=America/New_York:20250602T183000
DTEND;TZID=America/New_York:20250602T193000
DTSTAMP:20260425T225004
CREATED:20250425T151519Z
LAST-MODIFIED:20250425T151519Z
UID:21230-1748889000-1748892600@scc-arts.org
SUMMARY:Cuban Salsa Lessons
DESCRIPTION:Mondays\, 6:30 pm\nCost:\n$20 for drop-ins\n$60 for 4 weeks\n$175 for the whole course \nClick here for details
URL:https://scc-arts.org/event/cuban-salsa-lessons-20/
CATEGORIES:Classes,Dance
END:VEVENT
BEGIN:VEVENT
DTSTART;TZID=America/New_York:20250609T183000
DTEND;TZID=America/New_York:20250609T193000
DTSTAMP:20260425T225004
CREATED:20250425T151538Z
LAST-MODIFIED:20250425T151538Z
UID:21233-1749493800-1749497400@scc-arts.org
SUMMARY:Cuban Salsa Lessons
DESCRIPTION:Mondays\, 6:30 pm\nCost:\n$20 for drop-ins\n$60 for 4 weeks\n$175 for the whole course \nClick here for details
URL:https://scc-arts.org/event/cuban-salsa-lessons-21/
CATEGORIES:Classes,Dance
END:VEVENT
BEGIN:VEVENT
DTSTART;TZID=America/New_York:20250616T183000
DTEND;TZID=America/New_York:20250616T193000
DTSTAMP:20260425T225004
CREATED:20250425T151556Z
LAST-MODIFIED:20250425T151556Z
UID:21236-1750098600-1750102200@scc-arts.org
SUMMARY:Cuban Salsa Lessons
DESCRIPTION:Mondays\, 6:30 pm\nCost:\n$20 for drop-ins\n$60 for 4 weeks\n$175 for the whole course \nClick here for details
URL:https://scc-arts.org/event/cuban-salsa-lessons-22/
CATEGORIES:Classes,Dance
END:VEVENT
BEGIN:VEVENT
DTSTART;TZID=America/New_York:20250623T183000
DTEND;TZID=America/New_York:20250623T193000
DTSTAMP:20260425T225004
CREATED:20250425T151617Z
LAST-MODIFIED:20250425T151617Z
UID:21239-1750703400-1750707000@scc-arts.org
SUMMARY:Cuban Salsa Lessons
DESCRIPTION:Mondays\, 6:30 pm\nCost:\n$20 for drop-ins\n$60 for 4 weeks\n$175 for the whole course \nClick here for details
URL:https://scc-arts.org/event/cuban-salsa-lessons-23/
CATEGORIES:Classes,Dance
END:VEVENT
BEGIN:VEVENT
DTSTART;TZID=America/New_York:20250630T183000
DTEND;TZID=America/New_York:20250630T193000
DTSTAMP:20260425T225004
CREATED:20250425T151635Z
LAST-MODIFIED:20250425T151635Z
UID:21242-1751308200-1751311800@scc-arts.org
SUMMARY:Cuban Salsa Lessons
DESCRIPTION:Mondays\, 6:30 pm\nCost:\n$20 for drop-ins\n$60 for 4 weeks\n$175 for the whole course \nClick here for details
URL:https://scc-arts.org/event/cuban-salsa-lessons-24/
CATEGORIES:Classes,Dance
END:VEVENT
END:VCALENDAR